BEGIN:VCALENDAR
VERSION:2.0
PRODID:-//jEvents 2.0 for Joomla//EN
CALSCALE:GREGORIAN
METHOD:PUBLISH
BEGIN:VTIMEZONE
TZID:America/New_York
BEGIN:STANDARD
DTSTART:20251102T010000
RDATE:20260308T030000
TZOFFSETFROM:-0400
TZOFFSETTO:-0500
TZNAME:America/New_York EST
END:STANDARD
BEGIN:STANDARD
DTSTART:20261101T010000
RDATE:20270314T030000
TZOFFSETFROM:-0400
TZOFFSETTO:-0500
TZNAME:America/New_York EST
END:STANDARD
BEGIN:STANDARD
DTSTART:20271107T010000
RDATE:20280312T030000
TZOFFSETFROM:-0400
TZOFFSETTO:-0500
TZNAME:America/New_York EST
END:STANDARD
BEGIN:STANDARD
DTSTART:20281105T010000
RDATE:20290311T030000
TZOFFSETFROM:-0400
TZOFFSETTO:-0500
TZNAME:America/New_York EST
END:STANDARD
BEGIN:DAYLIGHT
DTSTART:20250515T000000
RDATE:20251102T010000
TZOFFSETFROM:-0500
TZOFFSETTO:-0400
TZNAME:America/New_York EDT
END:DAYLIGHT
BEGIN:DAYLIGHT
DTSTART:20260308T030000
RDATE:20261101T010000
TZOFFSETFROM:-0500
TZOFFSETTO:-0400
TZNAME:America/New_York EDT
END:DAYLIGHT
BEGIN:DAYLIGHT
DTSTART:20270314T030000
RDATE:20271107T010000
TZOFFSETFROM:-0500
TZOFFSETTO:-0400
TZNAME:America/New_York EDT
END:DAYLIGHT
BEGIN:DAYLIGHT
DTSTART:20280312T030000
RDATE:20281105T010000
TZOFFSETFROM:-0500
TZOFFSETTO:-0400
TZNAME:America/New_York EDT
END:DAYLIGHT
END:VTIMEZONE
BEGIN:VEVENT
UID:fad2dae1077fbfd71019e234cb666d24
CATEGORIES:Horse Racing
CREATED:20251222T142815
SUMMARY:Preakness Stakes, Pimlico Race Course, Baltimore, MD
LOCATION:Pimlico Race Course
DESCRIPTION:The Preakness Stakes, the Middle Jewel of the Triple Crown, is part of an i
 ncredible weekend of entertainment and world-class Thoroughbred racing.<br 
 />The Preakness Stakes is an American thoroughbred horse race held on the t
 hird Saturday in May each year at Pimlico Race Course in Baltimore, Marylan
 d. It is a Grade I race run over a distance of 9.5 furlongs on dirt. Colts 
 and geldings carry 126 pounds; fillies 121 pounds
DTSTAMP:20260424T185743
DTSTART;TZID=America/New_York;VALUE=DATE:20260516
DTEND;TZID=America/New_York;VALUE=DATE:20260517
SEQUENCE:0
TRANSP:OPAQUE
END:VEVENT
END:VCALENDAR