BEGIN:VCALENDAR
VERSION:2.0
PRODID:-//jEvents 2.0 for Joomla//EN
CALSCALE:GREGORIAN
METHOD:PUBLISH
BEGIN:VTIMEZONE
TZID:America/New_York
BEGIN:STANDARD
DTSTART:20250206T163000
RDATE:20250309T030000
TZOFFSETFROM:-0400
TZOFFSETTO:-0500
TZNAME:America/New_York EST
END:STANDARD
BEGIN:STANDARD
DTSTART:20251102T010000
RDATE:20260308T030000
TZOFFSETFROM:-0400
TZOFFSETTO:-0500
TZNAME:America/New_York EST
END:STANDARD
BEGIN:STANDARD
DTSTART:20261101T010000
RDATE:20270314T030000
TZOFFSETFROM:-0400
TZOFFSETTO:-0500
TZNAME:America/New_York EST
END:STANDARD
BEGIN:STANDARD
DTSTART:20271107T010000
RDATE:20280312T030000
TZOFFSETFROM:-0400
TZOFFSETTO:-0500
TZNAME:America/New_York EST
END:STANDARD
BEGIN:STANDARD
DTSTART:20281105T010000
RDATE:20290311T030000
TZOFFSETFROM:-0400
TZOFFSETTO:-0500
TZNAME:America/New_York EST
END:STANDARD
BEGIN:DAYLIGHT
DTSTART:20250309T030000
RDATE:20251102T010000
TZOFFSETFROM:-0500
TZOFFSETTO:-0400
TZNAME:America/New_York EDT
END:DAYLIGHT
BEGIN:DAYLIGHT
DTSTART:20260308T030000
RDATE:20261101T010000
TZOFFSETFROM:-0500
TZOFFSETTO:-0400
TZNAME:America/New_York EDT
END:DAYLIGHT
BEGIN:DAYLIGHT
DTSTART:20270314T030000
RDATE:20271107T010000
TZOFFSETFROM:-0500
TZOFFSETTO:-0400
TZNAME:America/New_York EDT
END:DAYLIGHT
BEGIN:DAYLIGHT
DTSTART:20280312T030000
RDATE:20281105T010000
TZOFFSETFROM:-0500
TZOFFSETTO:-0400
TZNAME:America/New_York EDT
END:DAYLIGHT
END:VTIMEZONE
BEGIN:VEVENT
UID:63879439a528fa609f491e1fc9ba567b
CATEGORIES:Recreation & Lifestyle
CREATED:20260113T124426
SUMMARY:Countdown to the Triple Crown fundraiser 
LOCATION:National Museum of Racing and Hall of Fame
DESCRIPTION:Join us on Saturday, Feb. 7 from 4:30 p.m. to 7 p.m. for our annual winter 
 fundraiser!<br /><br />To purchase tickets, visit: Countdown to the Triple 
 Crown tickets<br /><br />The Countdown to the Triple Crown fundraiser falls
  exactly three months before the Kentucky Derby! This Saturday evening even
 t will feature dozens of silent auction items and a 50/50 raffle. We will o
 ffer beer, wine and light fare, as well as our 18-minute signature film "Wh
 at It Takes: Journey to the Hall of Fame.” Follow us on social media to pre
 view our silent auction items!<br /><br />We will again offer an online auc
 tion featuring exclusive items and experiences you won't find anywhere else
 ! The online auction will go live on Feb. 6 at 12 p.m. and end on Friday, F
 eb. 13 at 12 p.m. Visit the online auction here: Countdown to the Triple Cr
 own auction items<br /><br />The Museum is a 501(c)(3) non-profit organizat
 ion. Our mission is to preserve and promote the history of thoroughbred rac
 ing in America and honor the sport’s most accomplished participants in the 
 Official National Thoroughbred Racing Hall of Fame. All proceeds from the e
 vent will fund new and exciting exhibits, educational programming and help 
 us provide the best experience to thousands of visitors annually.<br /><br 
 />Your ticket includes:<br />— Two drink tickets (cash beer/wine available)
 <br />— Light fare<br />— Admission to the Museum and viewing of the 18-min
 ute signature film<br />— Access to dozens of silent auction items<br />— A
  chance to win our 50/50 raffle<br />— Giveaways ... and more!<br />More in
 formation is available here: https://racingmuseum.org/events/countdown-trip
 le-crown
DTSTAMP:20260424T170817
DTSTART;TZID=America/New_York:20260207T163000
DTEND;TZID=America/New_York:20260207T190000
SEQUENCE:0
TRANSP:OPAQUE
END:VEVENT
END:VCALENDAR