BEGIN:VCALENDAR
VERSION:2.0
PRODID:-//jEvents 2.0 for Joomla//EN
CALSCALE:GREGORIAN
METHOD:PUBLISH
BEGIN:VTIMEZONE
TZID:America/New_York
BEGIN:STANDARD
DTSTART:20250225T180000
RDATE:20250309T030000
TZOFFSETFROM:-0400
TZOFFSETTO:-0500
TZNAME:America/New_York EST
END:STANDARD
BEGIN:STANDARD
DTSTART:20251102T010000
RDATE:20260308T030000
TZOFFSETFROM:-0400
TZOFFSETTO:-0500
TZNAME:America/New_York EST
END:STANDARD
BEGIN:STANDARD
DTSTART:20261101T010000
RDATE:20270314T030000
TZOFFSETFROM:-0400
TZOFFSETTO:-0500
TZNAME:America/New_York EST
END:STANDARD
BEGIN:STANDARD
DTSTART:20271107T010000
RDATE:20280312T030000
TZOFFSETFROM:-0400
TZOFFSETTO:-0500
TZNAME:America/New_York EST
END:STANDARD
BEGIN:STANDARD
DTSTART:20281105T010000
RDATE:20290311T030000
TZOFFSETFROM:-0400
TZOFFSETTO:-0500
TZNAME:America/New_York EST
END:STANDARD
BEGIN:DAYLIGHT
DTSTART:20250309T030000
RDATE:20251102T010000
TZOFFSETFROM:-0500
TZOFFSETTO:-0400
TZNAME:America/New_York EDT
END:DAYLIGHT
BEGIN:DAYLIGHT
DTSTART:20260308T030000
RDATE:20261101T010000
TZOFFSETFROM:-0500
TZOFFSETTO:-0400
TZNAME:America/New_York EDT
END:DAYLIGHT
BEGIN:DAYLIGHT
DTSTART:20270314T030000
RDATE:20271107T010000
TZOFFSETFROM:-0500
TZOFFSETTO:-0400
TZNAME:America/New_York EDT
END:DAYLIGHT
BEGIN:DAYLIGHT
DTSTART:20280312T030000
RDATE:20281105T010000
TZOFFSETFROM:-0500
TZOFFSETTO:-0400
TZNAME:America/New_York EDT
END:DAYLIGHT
END:VTIMEZONE
BEGIN:VEVENT
UID:1909840202f37eac8ddd34f062887018
CATEGORIES:Retire & Rehome
CREATED:20260220T113158
SUMMARY:Raise A Glass for Retired Racehorses - Therapeutic Horses of Saratoga
LOCATION:Henry Street Taproom
DESCRIPTION:<p>This evening means a great deal to me because it centers on the horses w
 ho make our work possible. Each of our retired racehorses has already given
  so much in their first careers. Now, they continue their journey here at t
 he farm, and caring for them with intention and respect is something I hold
  close to my heart.</p><p>I am especially grateful to Henry Street Taproom 
 for donating both the space and the food for the evening. Their generosity 
 allows proceeds from ticket sales and our horse racing-themed raffle items 
 to go directly toward supporting our herd. When you attend, you are helping
  provide feed, veterinary care, farrier services, and the daily essentials 
 that keep our horses healthy and comfortable.</p><p>Tickets are $55 for one
  or $100 for two with the Bring a Friend option, and food is included with 
 each ticket.  </p><p>I am looking forward to a relaxed, welcoming evening f
 illed with good conversation and shared appreciation for these remarkable h
 orses. It would truly mean a lot to see you there.</p><p>Click the link to 
 learn more or reserve your ticket: https://thsaratoga.org/raiseaglass/</p><
 p>With gratitude,<br />Dr. Erin Christopher-Sisk<br />Founder, Therapeutic 
 Horses of Saratoga</p>
DTSTAMP:20260424T202908
DTSTART;TZID=America/New_York:20260226T180000
DTEND;TZID=America/New_York:20260226T220000
SEQUENCE:0
TRANSP:OPAQUE
END:VEVENT
END:VCALENDAR