BEGIN:VCALENDAR
VERSION:2.0
PRODID:-//jEvents 2.0 for Joomla//EN
CALSCALE:GREGORIAN
METHOD:PUBLISH
BEGIN:VTIMEZONE
TZID:America/New_York
BEGIN:STANDARD
DTSTART:20251102T010000
RDATE:20260308T030000
TZOFFSETFROM:-0400
TZOFFSETTO:-0500
TZNAME:America/New_York EST
END:STANDARD
BEGIN:STANDARD
DTSTART:20261101T010000
RDATE:20270314T030000
TZOFFSETFROM:-0400
TZOFFSETTO:-0500
TZNAME:America/New_York EST
END:STANDARD
BEGIN:STANDARD
DTSTART:20271107T010000
RDATE:20280312T030000
TZOFFSETFROM:-0400
TZOFFSETTO:-0500
TZNAME:America/New_York EST
END:STANDARD
BEGIN:STANDARD
DTSTART:20281105T010000
RDATE:20290311T030000
TZOFFSETFROM:-0400
TZOFFSETTO:-0500
TZNAME:America/New_York EST
END:STANDARD
BEGIN:DAYLIGHT
DTSTART:20250603T190000
RDATE:20251102T010000
TZOFFSETFROM:-0500
TZOFFSETTO:-0400
TZNAME:America/New_York EDT
END:DAYLIGHT
BEGIN:DAYLIGHT
DTSTART:20260308T030000
RDATE:20261101T010000
TZOFFSETFROM:-0500
TZOFFSETTO:-0400
TZNAME:America/New_York EDT
END:DAYLIGHT
BEGIN:DAYLIGHT
DTSTART:20270314T030000
RDATE:20271107T010000
TZOFFSETFROM:-0500
TZOFFSETTO:-0400
TZNAME:America/New_York EDT
END:DAYLIGHT
BEGIN:DAYLIGHT
DTSTART:20280312T030000
RDATE:20281105T010000
TZOFFSETFROM:-0500
TZOFFSETTO:-0400
TZNAME:America/New_York EDT
END:DAYLIGHT
END:VTIMEZONE
BEGIN:VEVENT
UID:d22c8980135ae51ebee44e9e036c8ba7
CATEGORIES:Recreation & Lifestyle
CREATED:20260311T111327
SUMMARY:Belmont Bash - National Museum of Racing and Hall of Fame, Saratoga NY
LOCATION:Canfield Casino
DESCRIPTION:<p>Join us at the Canfield Casino for a Belmont Bash honoring the connectio
 ns of the 2025 Belmont Stakes winner Sovereignty: Godolphin, Hall of Fame T
 rainer Bill Mott and jockey Junior Alvarado!</p><p>This event features heav
 y hors d'oeuvres and stations by Mazzone Hospitality, open bar featuring sp
 ecialty cocktails, entertainment by Garland Nelson's Soul Session and an ex
 clusive silent auction!</p><p>Thursday, June 4, 2026 - 7 PM Cocktails, 8 PM
  Dinner</p><p>Canfield Casino, 1 E Congress Street, Saratoga Springs, NY 12
 866</p><p>Valet service | Racing/Cocktail attire</p>
DTSTAMP:20260424T181151
DTSTART;TZID=America/New_York:20260604T190000
DTEND;TZID=America/New_York:20260604T230000
SEQUENCE:0
TRANSP:OPAQUE
END:VEVENT
END:VCALENDAR