BEGIN:VCALENDAR
VERSION:2.0
PRODID:-//jEvents 2.0 for Joomla//EN
CALSCALE:GREGORIAN
METHOD:PUBLISH
BEGIN:VTIMEZONE
TZID:America/New_York
BEGIN:STANDARD
DTSTART:20251102T010000
RDATE:20260308T030000
TZOFFSETFROM:-0400
TZOFFSETTO:-0500
TZNAME:America/New_York EST
END:STANDARD
BEGIN:STANDARD
DTSTART:20261101T010000
RDATE:20270314T030000
TZOFFSETFROM:-0400
TZOFFSETTO:-0500
TZNAME:America/New_York EST
END:STANDARD
BEGIN:STANDARD
DTSTART:20271107T010000
RDATE:20280312T030000
TZOFFSETFROM:-0400
TZOFFSETTO:-0500
TZNAME:America/New_York EST
END:STANDARD
BEGIN:STANDARD
DTSTART:20281105T010000
RDATE:20290311T030000
TZOFFSETFROM:-0400
TZOFFSETTO:-0500
TZNAME:America/New_York EST
END:STANDARD
BEGIN:DAYLIGHT
DTSTART:20250429T000000
RDATE:20251102T010000
TZOFFSETFROM:-0500
TZOFFSETTO:-0400
TZNAME:America/New_York EDT
END:DAYLIGHT
BEGIN:DAYLIGHT
DTSTART:20260308T030000
RDATE:20261101T010000
TZOFFSETFROM:-0500
TZOFFSETTO:-0400
TZNAME:America/New_York EDT
END:DAYLIGHT
BEGIN:DAYLIGHT
DTSTART:20270314T030000
RDATE:20271107T010000
TZOFFSETFROM:-0500
TZOFFSETTO:-0400
TZNAME:America/New_York EDT
END:DAYLIGHT
BEGIN:DAYLIGHT
DTSTART:20280312T030000
RDATE:20281105T010000
TZOFFSETFROM:-0500
TZOFFSETTO:-0400
TZNAME:America/New_York EDT
END:DAYLIGHT
END:VTIMEZONE
BEGIN:VEVENT
UID:90aec9b327b8953ed94ea7da35dbdbce
CATEGORIES:English Riding
CREATED:20260326T132325
SUMMARY:TerraNova Dressage CDI3*
LOCATION:TerraNova Equestrian Center
DESCRIPTION:TerraNova Equestrian Center welcomes you to Dressage at TerraNova CDI-3* an
 d National Level 5, April 30-May 3, 2026, showcasing the Olympic sport of d
 ressage. Join us for the ultimate in equestrian sport and a lovely day in t
 he country. Our goal is to create a world-class experience for all levels o
 f riders, horses and spectators. TerraNova Dressage is a destination event 
 for competitors, owners and sponsors, located just a short drive from the S
 arasota and Bradenton areas and some of the nation’s top beaches, resort ho
 tels, golf courses and upscale restaurants.
\n

USEF - US Equestrian Founda
 tion approved event\n
X-ALT-DESC;FMTTYPE=text/html:<p>TerraNova Equestrian Center welcomes you to Dressage at TerraNova CDI-3*
  and National Level 5, April 30-May 3, 2026, showcasing the Olympic sport o
 f dressage. Join us for the ultimate in equestrian sport and a lovely day i
 n the country. Our goal is to create a world-class experience for all level
 s of riders, horses and spectators. TerraNova Dressage is a destination eve
 nt for competitors, owners and sponsors, located just a short drive from th
 e Sarasota and Bradenton areas and some of the nation’s top beaches, resort
  hotels, golf courses and upscale restaurants.</p><p><p>USEF - US Equestria
 n Foundation approved event</p>
DTSTAMP:20260424T132318
DTSTART;TZID=America/New_York;VALUE=DATE:20260430
DTEND;TZID=America/New_York;VALUE=DATE:20260504
SEQUENCE:0
TRANSP:OPAQUE
END:VEVENT
END:VCALENDAR