BEGIN:VCALENDAR
VERSION:2.0
PRODID:-//jEvents 2.0 for Joomla//EN
CALSCALE:GREGORIAN
METHOD:PUBLISH
BEGIN:VTIMEZONE
TZID:America/New_York
BEGIN:STANDARD
DTSTART:20251102T010000
RDATE:20260308T030000
TZOFFSETFROM:-0400
TZOFFSETTO:-0500
TZNAME:America/New_York EST
END:STANDARD
BEGIN:STANDARD
DTSTART:20261101T010000
RDATE:20270314T030000
TZOFFSETFROM:-0400
TZOFFSETTO:-0500
TZNAME:America/New_York EST
END:STANDARD
BEGIN:STANDARD
DTSTART:20271107T010000
RDATE:20280312T030000
TZOFFSETFROM:-0400
TZOFFSETTO:-0500
TZNAME:America/New_York EST
END:STANDARD
BEGIN:STANDARD
DTSTART:20281105T010000
RDATE:20290311T030000
TZOFFSETFROM:-0400
TZOFFSETTO:-0500
TZNAME:America/New_York EST
END:STANDARD
BEGIN:DAYLIGHT
DTSTART:20250408T000000
RDATE:20251102T010000
TZOFFSETFROM:-0500
TZOFFSETTO:-0400
TZNAME:America/New_York EDT
END:DAYLIGHT
BEGIN:DAYLIGHT
DTSTART:20260308T030000
RDATE:20261101T010000
TZOFFSETFROM:-0500
TZOFFSETTO:-0400
TZNAME:America/New_York EDT
END:DAYLIGHT
BEGIN:DAYLIGHT
DTSTART:20270314T030000
RDATE:20271107T010000
TZOFFSETFROM:-0500
TZOFFSETTO:-0400
TZNAME:America/New_York EDT
END:DAYLIGHT
BEGIN:DAYLIGHT
DTSTART:20280312T030000
RDATE:20281105T010000
TZOFFSETFROM:-0500
TZOFFSETTO:-0400
TZNAME:America/New_York EDT
END:DAYLIGHT
END:VTIMEZONE
BEGIN:VEVENT
UID:61008b7bc7506220f1012272ae6ccd0b
CATEGORIES:Racing Sales
CREATED:20260326T133807
SUMMARY:Goffs UK - The Aintree Sale 2026
LOCATION:Aintree Racecourse
DESCRIPTION:The Aintree Sale 2026\n
April 9 \n
A boutique sale of pointers held at Aint
 ree's Grand National Festival. Sold horses up to £400,000 and produced nume
 rous Grade 1 winners such as Croke Park. 
X-ALT-DESC;FMTTYPE=text/html:The Aintree Sale 2026<br />April 9 <br />A boutique sale of pointers held a
 t Aintree's Grand National Festival. Sold horses up to £400,000 and produce
 d numerous Grade 1 winners such as Croke Park. 
DTSTAMP:20260424T150906
DTSTART;TZID=America/New_York;VALUE=DATE:20260409
DTEND;TZID=America/New_York;VALUE=DATE:20260410
SEQUENCE:0
TRANSP:OPAQUE
END:VEVENT
END:VCALENDAR