BEGIN:VCALENDAR
VERSION:2.0
PRODID:-//jEvents 2.0 for Joomla//EN
CALSCALE:GREGORIAN
METHOD:PUBLISH
BEGIN:VTIMEZONE
TZID:America/New_York
BEGIN:STANDARD
DTSTART:20251102T010000
RDATE:20260308T030000
TZOFFSETFROM:-0400
TZOFFSETTO:-0500
TZNAME:America/New_York EST
END:STANDARD
BEGIN:STANDARD
DTSTART:20261101T010000
RDATE:20270314T030000
TZOFFSETFROM:-0400
TZOFFSETTO:-0500
TZNAME:America/New_York EST
END:STANDARD
BEGIN:STANDARD
DTSTART:20271107T010000
RDATE:20280312T030000
TZOFFSETFROM:-0400
TZOFFSETTO:-0500
TZNAME:America/New_York EST
END:STANDARD
BEGIN:STANDARD
DTSTART:20281105T010000
RDATE:20290311T030000
TZOFFSETFROM:-0400
TZOFFSETTO:-0500
TZNAME:America/New_York EST
END:STANDARD
BEGIN:DAYLIGHT
DTSTART:20250420T000000
RDATE:20251102T010000
TZOFFSETFROM:-0500
TZOFFSETTO:-0400
TZNAME:America/New_York EDT
END:DAYLIGHT
BEGIN:DAYLIGHT
DTSTART:20260308T030000
RDATE:20261101T010000
TZOFFSETFROM:-0500
TZOFFSETTO:-0400
TZNAME:America/New_York EDT
END:DAYLIGHT
BEGIN:DAYLIGHT
DTSTART:20270314T030000
RDATE:20271107T010000
TZOFFSETFROM:-0500
TZOFFSETTO:-0400
TZNAME:America/New_York EDT
END:DAYLIGHT
BEGIN:DAYLIGHT
DTSTART:20280312T030000
RDATE:20281105T010000
TZOFFSETFROM:-0500
TZOFFSETTO:-0400
TZNAME:America/New_York EDT
END:DAYLIGHT
END:VTIMEZONE
BEGIN:VEVENT
UID:28cbeea6915072f327759885fab4c134
CATEGORIES:Racing Sales
CREATED:20260326T134006
SUMMARY:Goffs UK - Breeze Up Sale
LOCATION:Doncaster\, UK
DESCRIPTION:Breeze Up Sale 2026\n
April 21 - 22\n
THE Royal Ascot 2YO Sale. Graduates h
 ave stormed to 11 Royal victories in the last 10 years – a 110% strike rate
 . Breeze from 8.30am 21 April – Sale from 10am on 22 April.   
X-ALT-DESC;FMTTYPE=text/html:Breeze Up Sale 2026<br />April 21 - 22<br />THE Royal Ascot 2YO Sale. Gradu
 ates have stormed to 11 Royal victories in the last 10 years – a 110% strik
 e rate. Breeze from 8.30am 21 April – Sale from 10am on 22 April.   
DTSTAMP:20260424T150919
DTSTART;TZID=America/New_York;VALUE=DATE:20260421
DTEND;TZID=America/New_York;VALUE=DATE:20260423
SEQUENCE:0
TRANSP:OPAQUE
END:VEVENT
END:VCALENDAR