BEGIN:VCALENDAR
VERSION:2.0
PRODID:-//jEvents 2.0 for Joomla//EN
CALSCALE:GREGORIAN
METHOD:PUBLISH
BEGIN:VTIMEZONE
TZID:America/New_York
BEGIN:STANDARD
DTSTART:20251102T010000
RDATE:20260308T030000
TZOFFSETFROM:-0400
TZOFFSETTO:-0500
TZNAME:America/New_York EST
END:STANDARD
BEGIN:STANDARD
DTSTART:20261101T010000
RDATE:20270314T030000
TZOFFSETFROM:-0400
TZOFFSETTO:-0500
TZNAME:America/New_York EST
END:STANDARD
BEGIN:STANDARD
DTSTART:20271107T010000
RDATE:20280312T030000
TZOFFSETFROM:-0400
TZOFFSETTO:-0500
TZNAME:America/New_York EST
END:STANDARD
BEGIN:STANDARD
DTSTART:20281105T010000
RDATE:20290311T030000
TZOFFSETFROM:-0400
TZOFFSETTO:-0500
TZNAME:America/New_York EST
END:STANDARD
BEGIN:DAYLIGHT
DTSTART:20250519T000000
RDATE:20251102T010000
TZOFFSETFROM:-0500
TZOFFSETTO:-0400
TZNAME:America/New_York EDT
END:DAYLIGHT
BEGIN:DAYLIGHT
DTSTART:20260308T030000
RDATE:20261101T010000
TZOFFSETFROM:-0500
TZOFFSETTO:-0400
TZNAME:America/New_York EDT
END:DAYLIGHT
BEGIN:DAYLIGHT
DTSTART:20270314T030000
RDATE:20271107T010000
TZOFFSETFROM:-0500
TZOFFSETTO:-0400
TZNAME:America/New_York EDT
END:DAYLIGHT
BEGIN:DAYLIGHT
DTSTART:20280312T030000
RDATE:20281105T010000
TZOFFSETFROM:-0500
TZOFFSETTO:-0400
TZNAME:America/New_York EDT
END:DAYLIGHT
END:VTIMEZONE
BEGIN:VEVENT
UID:615611473adf2f6ad34c5ce50fb9caab
CATEGORIES:Racing Sales
CREATED:20260326T134756
SUMMARY:Goffs UK - Spring HIT/PTP Sale
LOCATION:Doncaster\, UK
DESCRIPTION:Spring HIT/PTP Sale 2026\n
May 20 - 21\n
The two-day Spring HIT/PTP Sale is
  the world's largest NH of its type and draws the NH world to Doncaster eve
 ry year. As per 2025, there will be a blank inspection day on 19 May after 
 the Store Sale before this sale commences. 
X-ALT-DESC;FMTTYPE=text/html:Spring HIT/PTP Sale 2026<br />May 20 - 21<br />The two-day Spring HIT/PTP S
 ale is the world's largest NH of its type and draws the NH world to Doncast
 er every year. As per 2025, there will be a blank inspection day on 19 May 
 after the Store Sale before this sale commences. 
DTSTAMP:20260424T174406
DTSTART;TZID=America/New_York;VALUE=DATE:20260520
DTEND;TZID=America/New_York;VALUE=DATE:20260522
SEQUENCE:0
TRANSP:OPAQUE
END:VEVENT
END:VCALENDAR