BEGIN:VCALENDAR
VERSION:2.0
PRODID:-//jEvents 2.0 for Joomla//EN
CALSCALE:GREGORIAN
METHOD:PUBLISH
BEGIN:VTIMEZONE
TZID:America/New_York
BEGIN:STANDARD
DTSTART:20251102T010000
RDATE:20260308T030000
TZOFFSETFROM:-0400
TZOFFSETTO:-0500
TZNAME:America/New_York EST
END:STANDARD
BEGIN:STANDARD
DTSTART:20261101T010000
RDATE:20270314T030000
TZOFFSETFROM:-0400
TZOFFSETTO:-0500
TZNAME:America/New_York EST
END:STANDARD
BEGIN:STANDARD
DTSTART:20271107T010000
RDATE:20280312T030000
TZOFFSETFROM:-0400
TZOFFSETTO:-0500
TZNAME:America/New_York EST
END:STANDARD
BEGIN:STANDARD
DTSTART:20281105T010000
RDATE:20290311T030000
TZOFFSETFROM:-0400
TZOFFSETTO:-0500
TZNAME:America/New_York EST
END:STANDARD
BEGIN:DAYLIGHT
DTSTART:20250608T000000
RDATE:20251102T010000
TZOFFSETFROM:-0500
TZOFFSETTO:-0400
TZNAME:America/New_York EDT
END:DAYLIGHT
BEGIN:DAYLIGHT
DTSTART:20260308T030000
RDATE:20261101T010000
TZOFFSETFROM:-0500
TZOFFSETTO:-0400
TZNAME:America/New_York EDT
END:DAYLIGHT
BEGIN:DAYLIGHT
DTSTART:20270314T030000
RDATE:20271107T010000
TZOFFSETFROM:-0500
TZOFFSETTO:-0400
TZNAME:America/New_York EDT
END:DAYLIGHT
BEGIN:DAYLIGHT
DTSTART:20280312T030000
RDATE:20281105T010000
TZOFFSETFROM:-0500
TZOFFSETTO:-0400
TZNAME:America/New_York EDT
END:DAYLIGHT
END:VTIMEZONE
BEGIN:VEVENT
UID:863b6429dd627bf4cfcf3ef6b25c7cee
CATEGORIES:Racing Sales
CREATED:20260331T134023
SUMMARY:Goffs Ireland - Arkle Sale Part 1
LOCATION:Goffs Kildare Paddocks
DESCRIPTION:Kildare \n
Part 1: 9 - 10 June | Part 2: 11 June\n
Ireland's market-leading
  store sale, held in partnership with Defender. The highest average, median
 , turnover and clearance rate of any store sale in 2025, with a top price o
 f €230,000. View the vendor brochure.\n
X-ALT-DESC;FMTTYPE=text/html:Kildare <br />Part 1: 9 - 10 June | Part 2: 11 June<br />Ireland's market-l
 eading store sale, held in partnership with Defender. The highest average, 
 median, turnover and clearance rate of any store sale in 2025, with a top p
 rice of €230,000. View the vendor brochure.<br />
DTSTAMP:20260424T193520
DTSTART;TZID=America/New_York;VALUE=DATE:20260609
DTEND;TZID=America/New_York;VALUE=DATE:20260611
SEQUENCE:0
TRANSP:OPAQUE
END:VEVENT
END:VCALENDAR