BEGIN:VCALENDAR
VERSION:2.0
PRODID:-//jEvents 2.0 for Joomla//EN
CALSCALE:GREGORIAN
METHOD:PUBLISH
BEGIN:VTIMEZONE
TZID:America/New_York
BEGIN:STANDARD
DTSTART:20251102T010000
RDATE:20260308T030000
TZOFFSETFROM:-0400
TZOFFSETTO:-0500
TZNAME:America/New_York EST
END:STANDARD
BEGIN:STANDARD
DTSTART:20261101T010000
RDATE:20270314T030000
TZOFFSETFROM:-0400
TZOFFSETTO:-0500
TZNAME:America/New_York EST
END:STANDARD
BEGIN:STANDARD
DTSTART:20271107T010000
RDATE:20280312T030000
TZOFFSETFROM:-0400
TZOFFSETTO:-0500
TZNAME:America/New_York EST
END:STANDARD
BEGIN:STANDARD
DTSTART:20281105T010000
RDATE:20290311T030000
TZOFFSETFROM:-0400
TZOFFSETTO:-0500
TZNAME:America/New_York EST
END:STANDARD
BEGIN:DAYLIGHT
DTSTART:20250626T000000
RDATE:20251102T010000
TZOFFSETFROM:-0500
TZOFFSETTO:-0400
TZNAME:America/New_York EDT
END:DAYLIGHT
BEGIN:DAYLIGHT
DTSTART:20260308T030000
RDATE:20261101T010000
TZOFFSETFROM:-0500
TZOFFSETTO:-0400
TZNAME:America/New_York EDT
END:DAYLIGHT
BEGIN:DAYLIGHT
DTSTART:20270314T030000
RDATE:20271107T010000
TZOFFSETFROM:-0500
TZOFFSETTO:-0400
TZNAME:America/New_York EDT
END:DAYLIGHT
BEGIN:DAYLIGHT
DTSTART:20280312T030000
RDATE:20281105T010000
TZOFFSETFROM:-0500
TZOFFSETTO:-0400
TZNAME:America/New_York EDT
END:DAYLIGHT
END:VTIMEZONE
BEGIN:VEVENT
UID:5662881383fa965d241ef51b2a49fcd6
CATEGORIES:Racing Sales
CREATED:20260331T134537
SUMMARY:Goffs IRE - Classic Breeze-Up Sale 
LOCATION:Goffs Kildare Paddocks
DESCRIPTION:Classic Breeze Up Sale 2026\n
Kildare | 27 June\n
Made a highly successful 
 debut in 2025 with a boutique sale of 2YOs selling up to €330,000.
X-ALT-DESC;FMTTYPE=text/html:Classic Breeze Up Sale 2026<br>Kildare | 27 June<br>Made a highly successfu
 l debut in 2025 with a boutique sale of 2YOs selling up to €330,000.</br>
DTSTAMP:20260424T212030
DTSTART;TZID=America/New_York;VALUE=DATE:20260627
DTEND;TZID=America/New_York;VALUE=DATE:20260628
SEQUENCE:0
TRANSP:OPAQUE
END:VEVENT
END:VCALENDAR