BEGIN:VCALENDAR
VERSION:2.0
PRODID:-//jEvents 2.0 for Joomla//EN
CALSCALE:GREGORIAN
METHOD:PUBLISH
BEGIN:VTIMEZONE
TZID:America/New_York
BEGIN:STANDARD
DTSTART:20251102T010000
RDATE:20260308T030000
TZOFFSETFROM:-0400
TZOFFSETTO:-0500
TZNAME:America/New_York EST
END:STANDARD
BEGIN:STANDARD
DTSTART:20261101T010000
RDATE:20270314T030000
TZOFFSETFROM:-0400
TZOFFSETTO:-0500
TZNAME:America/New_York EST
END:STANDARD
BEGIN:STANDARD
DTSTART:20271107T010000
RDATE:20280312T030000
TZOFFSETFROM:-0400
TZOFFSETTO:-0500
TZNAME:America/New_York EST
END:STANDARD
BEGIN:STANDARD
DTSTART:20281105T010000
RDATE:20290311T030000
TZOFFSETFROM:-0400
TZOFFSETTO:-0500
TZNAME:America/New_York EST
END:STANDARD
BEGIN:DAYLIGHT
DTSTART:20250824T000000
RDATE:20251102T010000
TZOFFSETFROM:-0500
TZOFFSETTO:-0400
TZNAME:America/New_York EDT
END:DAYLIGHT
BEGIN:DAYLIGHT
DTSTART:20260308T030000
RDATE:20261101T010000
TZOFFSETFROM:-0500
TZOFFSETTO:-0400
TZNAME:America/New_York EDT
END:DAYLIGHT
BEGIN:DAYLIGHT
DTSTART:20270314T030000
RDATE:20271107T010000
TZOFFSETFROM:-0500
TZOFFSETTO:-0400
TZNAME:America/New_York EDT
END:DAYLIGHT
BEGIN:DAYLIGHT
DTSTART:20280312T030000
RDATE:20281105T010000
TZOFFSETFROM:-0500
TZOFFSETTO:-0400
TZNAME:America/New_York EDT
END:DAYLIGHT
END:VTIMEZONE
BEGIN:VEVENT
UID:a11049a38e4dd928648b09b9c72752c2
CATEGORIES:Racing Sales
CREATED:20260331T134842
SUMMARY:Goffs UK - Premier Yearling Sale
LOCATION:Doncaster\, UK
DESCRIPTION:Goffs UK - Premier Yearling Sale\n
Doncaster | 25 - 26 August\n
High-class,
  athletic &amp; precocious yearlings. All lots eligible for the £500,000 Ha
 rry's Half Million by Goffs. Celebrated 4 Group 1 winners in 2025 and has s
 old yearlings up to £440,000.
X-ALT-DESC;FMTTYPE=text/html:Goffs UK - Premier Yearling Sale<br />Doncaster | 25 - 26 August<br />High-
 class, athletic & precocious yearlings. All lots eligible for the £500,000 
 Harry's Half Million by Goffs. Celebrated 4 Group 1 winners in 2025 and has
  sold yearlings up to £440,000.
DTSTAMP:20260424T193520
DTSTART;TZID=America/New_York;VALUE=DATE:20260825
DTEND;TZID=America/New_York;VALUE=DATE:20260827
SEQUENCE:0
TRANSP:OPAQUE
END:VEVENT
END:VCALENDAR